BEGIN:VCALENDAR
VERSION:2.0
PRODID:-//Urkrautgeflüster | Petra Beckers - ECPv6.15.20//NONSGML v1.0//EN
CALSCALE:GREGORIAN
METHOD:PUBLISH
X-WR-CALNAME:Urkrautgeflüster | Petra Beckers
X-ORIGINAL-URL:https://urkrautgefluester.de
X-WR-CALDESC:Veranstaltungen für Urkrautgeflüster | Petra Beckers
REFRESH-INTERVAL;VALUE=DURATION:PT1H
X-Robots-Tag:noindex
X-PUBLISHED-TTL:PT1H
BEGIN:VTIMEZONE
TZID:Europe/Berlin
BEGIN:DAYLIGHT
TZOFFSETFROM:+0100
TZOFFSETTO:+0200
TZNAME:CEST
DTSTART:20250330T010000
END:DAYLIGHT
BEGIN:STANDARD
TZOFFSETFROM:+0200
TZOFFSETTO:+0100
TZNAME:CET
DTSTART:20251026T010000
END:STANDARD
BEGIN:DAYLIGHT
TZOFFSETFROM:+0100
TZOFFSETTO:+0200
TZNAME:CEST
DTSTART:20260329T010000
END:DAYLIGHT
BEGIN:STANDARD
TZOFFSETFROM:+0200
TZOFFSETTO:+0100
TZNAME:CET
DTSTART:20261025T010000
END:STANDARD
BEGIN:DAYLIGHT
TZOFFSETFROM:+0100
TZOFFSETTO:+0200
TZNAME:CEST
DTSTART:20270328T010000
END:DAYLIGHT
BEGIN:STANDARD
TZOFFSETFROM:+0200
TZOFFSETTO:+0100
TZNAME:CET
DTSTART:20271031T010000
END:STANDARD
END:VTIMEZONE
BEGIN:VEVENT
DTSTART;TZID=Europe/Berlin:20260620T100000
DTEND;TZID=Europe/Berlin:20260621T170000
DTSTAMP:20260424T105040
CREATED:20240601T223726Z
LAST-MODIFIED:20260301T135325Z
UID:2370-1781949600-1782061200@urkrautgefluester.de
SUMMARY:Workshop 2: Hildegard von Bingen – Heilkraft\, Weisheit und Lebenskunst
DESCRIPTION:Workshop 2 \nHildegard von Bingen – 2 Module\nHeilkraft\, Weisheit und Lebenskunst \nWir treffen uns samstags und sonntags um 10 Uhr – Im Honigstal 12\, 42117 Wuppertal \nDie große Mystikerin\, Visionärin\, Naturheilkundige und Komponistin Hildegard von Bingen berührt auch heute noch durch ihre zeitlose Weisheit und ihre erstaunlich ganzheitliche Sicht auf den Menschen. Ihre Lehre verbindet Spiritualität\, Naturheilkunde\, Musik\, Ernährung und Seelenkunde zu einem lebendigen Weg der Heilung und inneren Balance. \nAn zwei Wochenenden tauchen wir ein in das Leben und Wirken dieser außergewöhnlichen Frau des Mittelalters. Wir entdecken ihre Visionen\, ihre Heilkunde\, ihre Pflanzenkunde und ihre heilsame Lebensordnung – und übersetzen ihre Impulse in unseren modernen Alltag. \n1. Wochenende: Leben\, Visionen und Heilkunde \nEinführung in Leben und Zeitgeschichte Hildegards\nIhre spirituellen Visionen und das Weltbild der „Grünkraft“ (Viriditas)\nGrundlagen ihrer Heilkunde\nHeilpflanzen\, Edelsteine und einfache Hausmittel\nPraktische Übungen und Austausch \n2. Wochenende: Ernährung\, Rhythmus und seelische Balance \nDie Hildegard-Ernährungslehre\nGewürze\, Dinkel & Fastenimpulse\nLebensrhythmen und seelische Gesundheit\nMusik und Klang als heilsame Kraft\nPraktische Anregungen für den Alltag \nMitbringen: dem Wetter angepasste Kleidung\, Fröhlichkeit und einen offenen Geist\n \nDauer:\nModul 1: 20. und 21. Juni von jeweils 10 bis 17.00 Uhr\nModul 2: 04. und 05. Juli von jeweils 10 bis 17.00 Uhr \nReferentin:\nPetra Beckers \nZielgruppe:\nInteressierte jeden Alters \nKosten:\n150 € pro Person und Modul\n(inkl. kleiner Imbiss und Materialien) \nTeilnehmer:\nmax. 6 \nAnmeldeschluss:\n7 Tage vor Beginn des Workshops \nHinweis:\nBitte bei der Anmeldung unbedingt die Wissenswert-Nr. und das Veranstaltungsdatum mit angeben.\nDie Module können auch einzeln gebucht werden.
URL:https://urkrautgefluester.de/event/wissenswert-2-hexenpflanzen-des-mittelalters
CATEGORIES:Workshop
ATTACH;FMTTYPE=image/jpeg:https://urkrautgefluester.de/wp-content/uploads/2026/03/Beitragsbild_Hildegard-von-Bingen.jpg
END:VEVENT
END:VCALENDAR